BEGIN:VCALENDAR
VERSION:2.0
PRODID:-//Fraternité Eucharistein St-Jeoire - ECPv6.15.18//NONSGML v1.0//EN
CALSCALE:GREGORIAN
METHOD:PUBLISH
X-ORIGINAL-URL:https://eucharistein.org/saint-jeoire
X-WR-CALDESC:Évènements pour Fraternité Eucharistein St-Jeoire
REFRESH-INTERVAL;VALUE=DURATION:PT1H
X-Robots-Tag:noindex
X-PUBLISHED-TTL:PT1H
BEGIN:VTIMEZONE
TZID:Europe/Paris
BEGIN:DAYLIGHT
TZOFFSETFROM:+0100
TZOFFSETTO:+0200
TZNAME:CEST
DTSTART:20250330T010000
END:DAYLIGHT
BEGIN:STANDARD
TZOFFSETFROM:+0200
TZOFFSETTO:+0100
TZNAME:CET
DTSTART:20251026T010000
END:STANDARD
BEGIN:DAYLIGHT
TZOFFSETFROM:+0100
TZOFFSETTO:+0200
TZNAME:CEST
DTSTART:20260329T010000
END:DAYLIGHT
BEGIN:STANDARD
TZOFFSETFROM:+0200
TZOFFSETTO:+0100
TZNAME:CET
DTSTART:20261025T010000
END:STANDARD
BEGIN:DAYLIGHT
TZOFFSETFROM:+0100
TZOFFSETTO:+0200
TZNAME:CEST
DTSTART:20270328T010000
END:DAYLIGHT
BEGIN:STANDARD
TZOFFSETFROM:+0200
TZOFFSETTO:+0100
TZNAME:CET
DTSTART:20271031T010000
END:STANDARD
END:VTIMEZONE
BEGIN:VEVENT
DTSTART;TZID=Europe/Paris:20260314T100000
DTEND;TZID=Europe/Paris:20260315T160000
DTSTAMP:20260421T151451
CREATED:20250909T072114Z
LAST-MODIFIED:20250909T072114Z
UID:2144-1773482400-1773590400@eucharistein.org
SUMMARY:Week-end des familles
DESCRIPTION:Un temps auprès du Seigneur en montagne avec toute la famille. Plus d’informations : https://eucharistein.org/evenements/week-ends-familles/
URL:https://eucharistein.org/saint-jeoire/event/week-end-des-familles-5/
LOCATION:Chapelle d’Abondance\, Costa Nuova\, 646 route de vers l'église\, 74360 La Chapelle-d'Abondance
CATEGORIES:Week-end des familles
END:VEVENT
END:VCALENDAR