BEGIN:VCALENDAR
VERSION:2.0
PRODID:-//Fraternité Eucharistein St-Jeoire - ECPv6.15.18//NONSGML v1.0//EN
CALSCALE:GREGORIAN
METHOD:PUBLISH
X-ORIGINAL-URL:https://eucharistein.org/saint-jeoire
X-WR-CALDESC:Évènements pour Fraternité Eucharistein St-Jeoire
REFRESH-INTERVAL;VALUE=DURATION:PT1H
X-Robots-Tag:noindex
X-PUBLISHED-TTL:PT1H
BEGIN:VTIMEZONE
TZID:Europe/Paris
BEGIN:DAYLIGHT
TZOFFSETFROM:+0100
TZOFFSETTO:+0200
TZNAME:CEST
DTSTART:20250330T010000
END:DAYLIGHT
BEGIN:STANDARD
TZOFFSETFROM:+0200
TZOFFSETTO:+0100
TZNAME:CET
DTSTART:20251026T010000
END:STANDARD
BEGIN:DAYLIGHT
TZOFFSETFROM:+0100
TZOFFSETTO:+0200
TZNAME:CEST
DTSTART:20260329T010000
END:DAYLIGHT
BEGIN:STANDARD
TZOFFSETFROM:+0200
TZOFFSETTO:+0100
TZNAME:CET
DTSTART:20261025T010000
END:STANDARD
BEGIN:DAYLIGHT
TZOFFSETFROM:+0100
TZOFFSETTO:+0200
TZNAME:CEST
DTSTART:20270328T010000
END:DAYLIGHT
BEGIN:STANDARD
TZOFFSETFROM:+0200
TZOFFSETTO:+0100
TZNAME:CET
DTSTART:20271031T010000
END:STANDARD
END:VTIMEZONE
BEGIN:VEVENT
DTSTART;TZID=Europe/Paris:20260612T190000
DTEND;TZID=Europe/Paris:20260612T203000
DTSTAMP:20260421T193829
CREATED:20250923T074657Z
LAST-MODIFIED:20250923T074657Z
UID:2201-1781290800-1781296200@eucharistein.org
SUMMARY:Veillée St François Jacquard « l’Esprit Saint dans tous ses états »
DESCRIPTION:Cet année\, l’Esprit Saint sera le fil rouge de ces veillées de paroisse\, modestes mais ferventes ! Tout le monde y est bienvenu ! Au programme : court topo\, adoration animée\, puis pique-nique partagé tiré du sac. De 19h à 20h30.
URL:https://eucharistein.org/saint-jeoire/event/veillee-st-francois-jacquard-lesprit-saint-dans-tous-ses-etats-6/
LOCATION:Eglise de Mégevette\, Église\, D26\, 74490 Mégevette
CATEGORIES:Veillées
END:VEVENT
END:VCALENDAR