BEGIN:VCALENDAR
VERSION:2.0
PRODID:-//Fraternité Eucharistein St-Jeoire - ECPv6.15.18//NONSGML v1.0//EN
CALSCALE:GREGORIAN
METHOD:PUBLISH
X-ORIGINAL-URL:https://eucharistein.org/saint-jeoire
X-WR-CALDESC:Évènements pour Fraternité Eucharistein St-Jeoire
REFRESH-INTERVAL;VALUE=DURATION:PT1H
X-Robots-Tag:noindex
X-PUBLISHED-TTL:PT1H
BEGIN:VTIMEZONE
TZID:Europe/Paris
BEGIN:DAYLIGHT
TZOFFSETFROM:+0100
TZOFFSETTO:+0200
TZNAME:CEST
DTSTART:20250330T010000
END:DAYLIGHT
BEGIN:STANDARD
TZOFFSETFROM:+0200
TZOFFSETTO:+0100
TZNAME:CET
DTSTART:20251026T010000
END:STANDARD
BEGIN:DAYLIGHT
TZOFFSETFROM:+0100
TZOFFSETTO:+0200
TZNAME:CEST
DTSTART:20260329T010000
END:DAYLIGHT
BEGIN:STANDARD
TZOFFSETFROM:+0200
TZOFFSETTO:+0100
TZNAME:CET
DTSTART:20261025T010000
END:STANDARD
BEGIN:DAYLIGHT
TZOFFSETFROM:+0100
TZOFFSETTO:+0200
TZNAME:CEST
DTSTART:20270328T010000
END:DAYLIGHT
BEGIN:STANDARD
TZOFFSETFROM:+0200
TZOFFSETTO:+0100
TZNAME:CET
DTSTART:20271031T010000
END:STANDARD
END:VTIMEZONE
BEGIN:VEVENT
DTSTART;TZID=Europe/Paris:20260214T170000
DTEND;TZID=Europe/Paris:20260214T220000
DTSTAMP:20260422T031523
CREATED:20250909T081309Z
LAST-MODIFIED:20250909T081309Z
UID:2163-1771088400-1771106400@eucharistein.org
SUMMARY:Veillée Eucharistein avec Mgr Le Saux
DESCRIPTION:Grande veillée pour tous ! 17h accueil\, 17h30 vêpres\, 18h conférence de notre évêque\, 19h pique-nique partagé tiré du sac\, 20h30 adoration et confessions.
URL:https://eucharistein.org/saint-jeoire/event/veillee-eucharistein-avec-mgr-le-saux-2/
LOCATION:ECAUT\, 301 Rte de Bregny\, 74250 Viuz-en-Sallaz
CATEGORIES:Veillées
END:VEVENT
END:VCALENDAR