BEGIN:VCALENDAR
VERSION:2.0
PRODID:-//Fraternité Eucharistein St-Jeoire - ECPv6.15.18//NONSGML v1.0//EN
CALSCALE:GREGORIAN
METHOD:PUBLISH
X-WR-CALNAME:Fraternité Eucharistein St-Jeoire
X-ORIGINAL-URL:https://eucharistein.org/saint-jeoire
X-WR-CALDESC:Évènements pour Fraternité Eucharistein St-Jeoire
REFRESH-INTERVAL;VALUE=DURATION:PT1H
X-Robots-Tag:noindex
X-PUBLISHED-TTL:PT1H
BEGIN:VTIMEZONE
TZID:Europe/Paris
BEGIN:DAYLIGHT
TZOFFSETFROM:+0100
TZOFFSETTO:+0200
TZNAME:CEST
DTSTART:20240331T010000
END:DAYLIGHT
BEGIN:STANDARD
TZOFFSETFROM:+0200
TZOFFSETTO:+0100
TZNAME:CET
DTSTART:20241027T010000
END:STANDARD
BEGIN:DAYLIGHT
TZOFFSETFROM:+0100
TZOFFSETTO:+0200
TZNAME:CEST
DTSTART:20250330T010000
END:DAYLIGHT
BEGIN:STANDARD
TZOFFSETFROM:+0200
TZOFFSETTO:+0100
TZNAME:CET
DTSTART:20251026T010000
END:STANDARD
BEGIN:DAYLIGHT
TZOFFSETFROM:+0100
TZOFFSETTO:+0200
TZNAME:CEST
DTSTART:20260329T010000
END:DAYLIGHT
BEGIN:STANDARD
TZOFFSETFROM:+0200
TZOFFSETTO:+0100
TZNAME:CET
DTSTART:20261025T010000
END:STANDARD
END:VTIMEZONE
BEGIN:VEVENT
DTSTART;VALUE=DATE:20250721
DTEND;VALUE=DATE:20250726
DTSTAMP:20260422T150753
CREATED:20241202T120719Z
LAST-MODIFIED:20250516T131805Z
UID:1856-1753056000-1753487999@eucharistein.org
SUMMARY:Théopotager édition 2025 !
DESCRIPTION:La seconde édition de notre université d’été\, le Théopotager\, aura lieu du 21 au 25 Juillet 2025 pour les étudiants – jeunes pro ! \nEncore une proposition pour pimenter votre été ! \nUn temps champêtre qui conjuguera travail manuel\, philosophie\, théologie\, Bible\, veillées\, détente et prière \nL’idée : découvrir la grande sagesse de l’Église avec des profs accessibles\, dans un cadre incarné et détendu – pour creuser ta foi ! \nLe lien pour s’inscrire : https://forms.gle/6YWNP7suEhuGqQU57 \nEn images :
URL:https://eucharistein.org/saint-jeoire/event/theopotager-edition-2025/
LOCATION:au château !
CATEGORIES:Propositions Jeunes
ATTACH;FMTTYPE=image/jpeg:https://eucharistein.org/saint-jeoire/wp-content/uploads/sites/7/2025/04/1.jpg
END:VEVENT
END:VCALENDAR